BEGIN:VCALENDAR
VERSION:2.0
PRODID:-//Patrick Mulick - ECPv6.2.7//NONSGML v1.0//EN
CALSCALE:GREGORIAN
METHOD:PUBLISH
X-WR-CALNAME:Patrick Mulick
X-ORIGINAL-URL:https://patrickmulick.com
X-WR-CALDESC:Events for Patrick Mulick
REFRESH-INTERVAL;VALUE=DURATION:PT1H
X-Robots-Tag:noindex
X-PUBLISHED-TTL:PT1H
BEGIN:VTIMEZONE
TZID:UTC
BEGIN:STANDARD
TZOFFSETFROM:+0000
TZOFFSETTO:+0000
TZNAME:UTC
DTSTART:20180101T000000
END:STANDARD
END:VTIMEZONE
BEGIN:VEVENT
DTSTART;VALUE=DATE:20240723
DTEND;VALUE=DATE:20240724
DTSTAMP:20260424T160834
CREATED:20240312T032657Z
LAST-MODIFIED:20240312T032657Z
UID:1801-1721692800-1721779199@patrickmulick.com
SUMMARY:Idaho Student Transportation Training Conference
DESCRIPTION:
URL:https://patrickmulick.com/event/idaho-student-transportation-training-conference/
LOCATION:Galaxy Event Center\, Meridian\, Idaho
END:VEVENT
BEGIN:VEVENT
DTSTART;VALUE=DATE:20240301
DTEND;VALUE=DATE:20240302
DTSTAMP:20260424T160834
CREATED:20231027T023744Z
LAST-MODIFIED:20231027T023744Z
UID:1758-1709251200-1709337599@patrickmulick.com
SUMMARY:Midwest Symposium for Leadership in Behavior Disorders
DESCRIPTION:
URL:https://patrickmulick.com/event/midwest-symposium-for-leadership-in-behavior-disorders/
LOCATION:Sheraton Crown Center Kansas City\, Missouri
END:VEVENT
BEGIN:VEVENT
DTSTART;VALUE=DATE:20240224
DTEND;VALUE=DATE:20240225
DTSTAMP:20260424T160834
CREATED:20231027T024012Z
LAST-MODIFIED:20231027T024012Z
UID:1761-1708732800-1708819199@patrickmulick.com
SUMMARY:OPTA South Willamette Winter Conference
DESCRIPTION:
URL:https://patrickmulick.com/event/opta-south-willamette-winter-conference/
LOCATION:Eugene\, Oregon
END:VEVENT
BEGIN:VEVENT
DTSTART;VALUE=DATE:20220808
DTEND;VALUE=DATE:20220809
DTSTAMP:20260424T160834
CREATED:20220313T234658Z
LAST-MODIFIED:20220313T234658Z
UID:1747-1659916800-1660003199@patrickmulick.com
SUMMARY:Undefeated
DESCRIPTION:
URL:https://patrickmulick.com/event/undefeated-9/
LOCATION:Chicago\, IL
END:VEVENT
BEGIN:VEVENT
DTSTART;VALUE=DATE:20220805
DTEND;VALUE=DATE:20220806
DTSTAMP:20260424T160834
CREATED:20220313T234609Z
LAST-MODIFIED:20220313T234609Z
UID:1744-1659657600-1659743999@patrickmulick.com
SUMMARY:Undefeated
DESCRIPTION:
URL:https://patrickmulick.com/event/undefeated-8/
LOCATION:Denver\, CO
END:VEVENT
BEGIN:VEVENT
DTSTART;VALUE=DATE:20220720
DTEND;VALUE=DATE:20220721
DTSTAMP:20260424T160834
CREATED:20220313T234445Z
LAST-MODIFIED:20220313T234445Z
UID:1741-1658275200-1658361599@patrickmulick.com
SUMMARY:Undefeated
DESCRIPTION:
URL:https://patrickmulick.com/event/undefeated-7/
LOCATION:Davis\, WV
END:VEVENT
BEGIN:VEVENT
DTSTART;TZID=UTC:20220719T083000
DTEND;TZID=UTC:20220719T103000
DTSTAMP:20260424T160834
CREATED:20220313T234350Z
LAST-MODIFIED:20220313T234350Z
UID:1738-1658219400-1658226600@patrickmulick.com
SUMMARY:Undefeated
DESCRIPTION:
URL:https://patrickmulick.com/event/undefeated-6/
LOCATION:Frisco\, TX
END:VEVENT
BEGIN:VEVENT
DTSTART;VALUE=DATE:20220626
DTEND;VALUE=DATE:20220627
DTSTAMP:20260424T160834
CREATED:20220313T234037Z
LAST-MODIFIED:20220313T234150Z
UID:1733-1656201600-1656287999@patrickmulick.com
SUMMARY:Undefeated
DESCRIPTION:Texas Association for Pupil Transportation State Conference
URL:https://patrickmulick.com/event/undefeated-5/
LOCATION:Corpus Christi\, TX
END:VEVENT
BEGIN:VEVENT
DTSTART;TZID=UTC:20220617T110000
DTEND;TZID=UTC:20220617T130000
DTSTAMP:20260424T160834
CREATED:20220313T233833Z
LAST-MODIFIED:20220313T234216Z
UID:1731-1655463600-1655470800@patrickmulick.com
SUMMARY:Autism: What It Means to Us\, What It Means to Them
DESCRIPTION:Ohio Association for Pupil Transportation Conference
URL:https://patrickmulick.com/event/autism-what-it-means-to-us-what-it-means-to-them-6/
LOCATION:Dublin\, OH
END:VEVENT
BEGIN:VEVENT
DTSTART;TZID=UTC:20220430T090000
DTEND;TZID=UTC:20220430T120000
DTSTAMP:20260424T160834
CREATED:20220313T233658Z
LAST-MODIFIED:20220313T234241Z
UID:1729-1651309200-1651320000@patrickmulick.com
SUMMARY:The Filter for Behavior Change
DESCRIPTION:
URL:https://patrickmulick.com/event/the-filter-for-behavior-change/
LOCATION:Quilcene\, WA
END:VEVENT
BEGIN:VEVENT
DTSTART;VALUE=DATE:20211118
DTEND;VALUE=DATE:20211119
DTSTAMP:20260424T160834
CREATED:20210713T225039Z
LAST-MODIFIED:20210713T225039Z
UID:1721-1637193600-1637279999@patrickmulick.com
SUMMARY:Transporting Students with Disabilities Conference Opening Keynote
DESCRIPTION:
URL:https://patrickmulick.com/event/transporting-students-with-disabilities-conference-opening-keynote/
LOCATION:Idaho
END:VEVENT
BEGIN:VEVENT
DTSTART;TZID=UTC:20211021T080000
DTEND;TZID=UTC:20211021T160000
DTSTAMP:20260424T160834
CREATED:20210713T225534Z
LAST-MODIFIED:20210713T232855Z
UID:1723-1634803200-1634832000@patrickmulick.com
SUMMARY:Using Cheat Sheets to Promote Independence for Students with Autism
DESCRIPTION:This is a virtual event.
URL:https://patrickmulick.com/event/using-cheat-sheets-to-promote-independence-for-students-with-autism/
LOCATION:Idaho
END:VEVENT
BEGIN:VEVENT
DTSTART;VALUE=DATE:20200212
DTEND;VALUE=DATE:20200213
DTSTAMP:20260424T160834
CREATED:20190404T224944Z
LAST-MODIFIED:20190404T224944Z
UID:1623-1581465600-1581551999@patrickmulick.com
SUMMARY:Cheat Sheets for Promoting Independence for Students with Autism
DESCRIPTION:
URL:https://patrickmulick.com/event/cheat-sheets-for-promoting-independence-for-students-with-autism/
LOCATION:Orlando\, FL
END:VEVENT
BEGIN:VEVENT
DTSTART;TZID=UTC:20191115T080000
DTEND;TZID=UTC:20191116T170000
DTSTAMP:20260424T160834
CREATED:20190404T224823Z
LAST-MODIFIED:20190404T224823Z
UID:1620-1573804800-1573923600@patrickmulick.com
SUMMARY:Undefeated
DESCRIPTION:
URL:https://patrickmulick.com/event/undefeated-4/
LOCATION:Central Kitsap\, WA
END:VEVENT
BEGIN:VEVENT
DTSTART;VALUE=DATE:20190812
DTEND;VALUE=DATE:20190813
DTSTAMP:20260424T160834
CREATED:20190404T224713Z
LAST-MODIFIED:20190404T224713Z
UID:1617-1565568000-1565654399@patrickmulick.com
SUMMARY:Undefeated
DESCRIPTION:
URL:https://patrickmulick.com/event/undefeated-3/
LOCATION:Frisco\, TX
END:VEVENT
BEGIN:VEVENT
DTSTART;VALUE=DATE:20190809
DTEND;VALUE=DATE:20190810
DTSTAMP:20260424T160834
CREATED:20190404T224548Z
LAST-MODIFIED:20190404T225138Z
UID:1614-1565308800-1565395199@patrickmulick.com
SUMMARY:Undefeated
DESCRIPTION:
URL:https://patrickmulick.com/event/undefeated-2/
LOCATION:Mason\, Ohio
END:VEVENT
BEGIN:VEVENT
DTSTART;VALUE=DATE:20190806
DTEND;VALUE=DATE:20190807
DTSTAMP:20260424T160834
CREATED:20190404T224420Z
LAST-MODIFIED:20190404T225247Z
UID:1611-1565049600-1565135999@patrickmulick.com
SUMMARY:Undefeated
DESCRIPTION:
URL:https://patrickmulick.com/event/undefeated/
LOCATION:Tualatin\, Oregon
END:VEVENT
BEGIN:VEVENT
DTSTART;VALUE=DATE:20190727
DTEND;VALUE=DATE:20190728
DTSTAMP:20260424T160834
CREATED:20190404T224155Z
LAST-MODIFIED:20190404T224155Z
UID:1609-1564185600-1564271999@patrickmulick.com
SUMMARY:Behavior on the School Bus
DESCRIPTION:
URL:https://patrickmulick.com/event/behavior-on-the-school-bus/
LOCATION:Idaho
END:VEVENT
BEGIN:VEVENT
DTSTART;VALUE=DATE:20190715
DTEND;VALUE=DATE:20190716
DTSTAMP:20260424T160834
CREATED:20190404T224035Z
LAST-MODIFIED:20190404T225213Z
UID:1606-1563148800-1563235199@patrickmulick.com
SUMMARY:"Undefeated" and "The Filter for Behavior Change"
DESCRIPTION:
URL:https://patrickmulick.com/event/undefeated-and-the-filter-for-behavior-change/
LOCATION:Idaho
END:VEVENT
BEGIN:VEVENT
DTSTART;TZID=UTC:20190702T103000
DTEND;TZID=UTC:20190702T123000
DTSTAMP:20260424T160834
CREATED:20190404T223835Z
LAST-MODIFIED:20190404T223835Z
UID:1603-1562063400-1562070600@patrickmulick.com
SUMMARY:Light It Up!
DESCRIPTION:
URL:https://patrickmulick.com/event/light-it-up-11/
LOCATION:Spokane Convention Center
END:VEVENT
BEGIN:VEVENT
DTSTART;TZID=UTC:20190625T080000
DTEND;TZID=UTC:20190625T170000
DTSTAMP:20260424T160834
CREATED:20190404T225422Z
LAST-MODIFIED:20190404T225422Z
UID:1600-1561449600-1561482000@patrickmulick.com
SUMMARY:"Undefeated" and "The Filter for Behavior Change on the Bus"
DESCRIPTION:
URL:https://patrickmulick.com/event/undefeated-and-the-filter-for-behavior-change-on-the-bus/
LOCATION:Boise Centre
END:VEVENT
BEGIN:VEVENT
DTSTART;TZID=UTC:20190624T080000
DTEND;TZID=UTC:20190624T170000
DTSTAMP:20260424T160834
CREATED:20190404T223154Z
LAST-MODIFIED:20190404T223154Z
UID:1597-1561363200-1561395600@patrickmulick.com
SUMMARY:Supporting Behavior and Autism on the School Bus
DESCRIPTION:
URL:https://patrickmulick.com/event/supporting-behavior-and-autism-on-the-school-bus-2/
LOCATION:Three Rivers Convention Center Kennewick\, WA
END:VEVENT
BEGIN:VEVENT
DTSTART;VALUE=DATE:20190610
DTEND;VALUE=DATE:20190611
DTSTAMP:20260424T160834
CREATED:20190404T222936Z
LAST-MODIFIED:20190404T222936Z
UID:1594-1560124800-1560211199@patrickmulick.com
SUMMARY:Supporting Behavior and Autism on the School Bus
DESCRIPTION:
URL:https://patrickmulick.com/event/supporting-behavior-and-autism-on-the-school-bus/
LOCATION:JW Mariott Hotel Indianapolis
END:VEVENT
BEGIN:VEVENT
DTSTART;TZID=UTC:20190418T173000
DTEND;TZID=UTC:20190418T203000
DTSTAMP:20260424T160834
CREATED:20190404T222600Z
LAST-MODIFIED:20190404T222600Z
UID:1592-1555608600-1555619400@patrickmulick.com
SUMMARY:Promoting Independence for Students with Autism
DESCRIPTION:
URL:https://patrickmulick.com/event/promoting-independence-for-students-with-autism/
LOCATION:Central Kitsap County School District\, WA\, United States
END:VEVENT
BEGIN:VEVENT
DTSTART;VALUE=DATE:20190318
DTEND;VALUE=DATE:20190319
DTSTAMP:20260424T160834
CREATED:20180609T211543Z
LAST-MODIFIED:20180609T211543Z
UID:1559-1552867200-1552953599@patrickmulick.com
SUMMARY:Ohio Association for Pupil Transportation
DESCRIPTION:
URL:https://patrickmulick.com/event/ohio-association-for-pupil-transportation/
LOCATION:Columbus\, OH
END:VEVENT
BEGIN:VEVENT
DTSTART;VALUE=DATE:20190107
DTEND;VALUE=DATE:20190108
DTSTAMP:20260424T160834
CREATED:20180609T211044Z
LAST-MODIFIED:20180609T211044Z
UID:1556-1546819200-1546905599@patrickmulick.com
SUMMARY:Plano Independent School District
DESCRIPTION:
URL:https://patrickmulick.com/event/plano-independent-school-district/
LOCATION:Plano\, TX
END:VEVENT
BEGIN:VEVENT
DTSTART;VALUE=DATE:20180827
DTEND;VALUE=DATE:20180828
DTSTAMP:20260424T160834
CREATED:20180609T210857Z
LAST-MODIFIED:20180609T210857Z
UID:1553-1535328000-1535414399@patrickmulick.com
SUMMARY:Hillsboro School District
DESCRIPTION:
URL:https://patrickmulick.com/event/hillsboro-school-district/
LOCATION:Hillsboro\, OR
END:VEVENT
BEGIN:VEVENT
DTSTART;VALUE=DATE:20180822
DTEND;VALUE=DATE:20180823
DTSTAMP:20260424T160834
CREATED:20180609T210705Z
LAST-MODIFIED:20180609T210705Z
UID:1550-1534896000-1534982399@patrickmulick.com
SUMMARY:Redmond School District
DESCRIPTION:
URL:https://patrickmulick.com/event/redmond-school-district/
LOCATION:Redmomd\, OR
END:VEVENT
BEGIN:VEVENT
DTSTART;VALUE=DATE:20180821
DTEND;VALUE=DATE:20180822
DTSTAMP:20260424T160834
CREATED:20180609T210615Z
LAST-MODIFIED:20180609T210615Z
UID:1547-1534809600-1534895999@patrickmulick.com
SUMMARY:Renton School District
DESCRIPTION:
URL:https://patrickmulick.com/event/renton-school-district/
LOCATION:Renton\, WA
END:VEVENT
BEGIN:VEVENT
DTSTART;VALUE=DATE:20180820
DTEND;VALUE=DATE:20180821
DTSTAMP:20260424T160834
CREATED:20180609T210514Z
LAST-MODIFIED:20180609T210514Z
UID:1544-1534723200-1534809599@patrickmulick.com
SUMMARY:Eastmont School District
DESCRIPTION:
URL:https://patrickmulick.com/event/eastmont-school-district/
LOCATION:East Wenatchee\, WA
END:VEVENT
END:VCALENDAR